BEGIN:VCALENDAR
VERSION:2.0
PRODID:-//DIOCESI DI ROMA - ECPv4.6.14.1//NONSGML v1.0//EN
CALSCALE:GREGORIAN
METHOD:PUBLISH
X-WR-CALNAME:DIOCESI DI ROMA
X-ORIGINAL-URL:https://www.diocesidiroma.it
X-WR-CALDESC:Eventi per DIOCESI DI ROMA
BEGIN:VEVENT
DTSTART;TZID=Europe/Rome:20251005T090000
DTEND;TZID=Europe/Rome:20251005T090000
DTSTAMP:20260420T214443
CREATED:20250926T091838Z
LAST-MODIFIED:20250926T091838Z
UID:37428-1759654800-1759654800@www.diocesidiroma.it
SUMMARY:Visita pastorale alla parrocchia Sant’Atanasio
DESCRIPTION:Visita pastorale alla parrocchia Sant’Atanasio \n
URL:https://www.diocesidiroma.it/event/visita-pastorale-alla-parrocchia-santatanasio/
CATEGORIES:Vicario Generale
END:VEVENT
END:VCALENDAR