BEGIN:VCALENDAR
VERSION:2.0
PRODID:-//DIOCESI DI ROMA - ECPv4.6.14.1//NONSGML v1.0//EN
CALSCALE:GREGORIAN
METHOD:PUBLISH
X-WR-CALNAME:DIOCESI DI ROMA
X-ORIGINAL-URL:https://www.diocesidiroma.it
X-WR-CALDESC:Eventi per DIOCESI DI ROMA
BEGIN:VEVENT
DTSTART;TZID=Europe/Rome:20250408T170000
DTEND;TZID=Europe/Rome:20250408T220000
DTSTAMP:20260420T195452
CREATED:20250404T093736Z
LAST-MODIFIED:20250404T093736Z
UID:34970-1744131600-1744149600@www.diocesidiroma.it
SUMMARY:Visita pastorale alla parrocchia Santi Simone e Giuda Taddeo a Torre Angela
DESCRIPTION:Visita pastorale alla parrocchia Santi Simone e Giuda Taddeo a Torre Angela  \n
URL:https://www.diocesidiroma.it/event/visita-pastorale-alla-parrocchia-santi-simone-e-giuda-taddeo-a-torre-angela/
CATEGORIES:Vicario Generale
END:VEVENT
END:VCALENDAR