BEGIN:VCALENDAR
VERSION:2.0
PRODID:-//DIOCESI DI ROMA - ECPv4.6.14.1//NONSGML v1.0//EN
CALSCALE:GREGORIAN
METHOD:PUBLISH
X-WR-CALNAME:DIOCESI DI ROMA
X-ORIGINAL-URL:https://www.diocesidiroma.it
X-WR-CALDESC:Eventi per DIOCESI DI ROMA
BEGIN:VEVENT
DTSTART;TZID=Europe/Rome:20260301T163000
DTEND;TZID=Europe/Rome:20260301T163000
DTSTAMP:20260421T011743
CREATED:20260219T094449Z
LAST-MODIFIED:20260219T094449Z
UID:40072-1772382600-1772382600@www.diocesidiroma.it
SUMMARY:Visita pastorale del Santo Padre Leone XIV presso la parrocchia Ascensione di Nostro Signore Gesù Cristo
DESCRIPTION:Visita pastorale del Santo Padre Leone XIV presso la parrocchia Ascensione di Nostro Signore Gesù Cristo \n
URL:https://www.diocesidiroma.it/event/visita-pastorale-del-santo-padre-leone-xiv-presso-la-parrocchia-ascensione-di-nostro-signore-gesu-cristo/
CATEGORIES:Vicario Generale
END:VEVENT
END:VCALENDAR