BEGIN:VCALENDAR
VERSION:2.0
PRODID:-//DIOCESI DI ROMA - ECPv4.6.14.1//NONSGML v1.0//EN
CALSCALE:GREGORIAN
METHOD:PUBLISH
X-WR-CALNAME:DIOCESI DI ROMA
X-ORIGINAL-URL:https://www.diocesidiroma.it
X-WR-CALDESC:Eventi per DIOCESI DI ROMA
BEGIN:VEVENT
DTSTART;TZID=Europe/Rome:20260222T080000
DTEND;TZID=Europe/Rome:20260222T080000
DTSTAMP:20260420T213609
CREATED:20260213T084040Z
LAST-MODIFIED:20260213T084040Z
UID:39944-1771747200-1771747200@www.diocesidiroma.it
SUMMARY:Visita pastorale del Santo Padre Leone XIV presso la parrocchia Sacro Cuore di Gesù a Castro Pretorio
DESCRIPTION:Visita pastorale del Santo Padre Leone XIV presso la parrocchia Sacro Cuore di Gesù a Castro Pretorio  \n
URL:https://www.diocesidiroma.it/event/visita-pastorale-del-santo-padre-leone-xiv-presso-la-parrocchia-sacro-cuore-di-gesu-a-castro-pretorio/
CATEGORIES:Vicario Generale
END:VEVENT
END:VCALENDAR