BEGIN:VCALENDAR
VERSION:2.0
PRODID:-//DIOCESI DI ROMA - ECPv4.6.14.1//NONSGML v1.0//EN
CALSCALE:GREGORIAN
METHOD:PUBLISH
X-WR-CALNAME:DIOCESI DI ROMA
X-ORIGINAL-URL:https://www.diocesidiroma.it
X-WR-CALDESC:Eventi per DIOCESI DI ROMA
BEGIN:VEVENT
DTSTART;TZID=Europe/Rome:20250516T170000
DTEND;TZID=Europe/Rome:20250516T220000
DTSTAMP:20260420T182152
CREATED:20250509T072920Z
LAST-MODIFIED:20250509T072920Z
UID:35535-1747414800-1747432800@www.diocesidiroma.it
SUMMARY:Visita pastorale nella parrocchia dei Santi Protomartiri Romani
DESCRIPTION:Visita pastorale nella parrocchia dei Santi Protomartiri Romani \n
URL:https://www.diocesidiroma.it/event/visita-pastorale-nella-parrocchia-dei-santi-protomartiri-romani/
CATEGORIES:Vicario Generale
END:VEVENT
END:VCALENDAR