BEGIN:VCALENDAR
VERSION:2.0
PRODID:-//DIOCESI DI ROMA - ECPv4.6.14.1//NONSGML v1.0//EN
CALSCALE:GREGORIAN
METHOD:PUBLISH
X-WR-CALNAME:DIOCESI DI ROMA
X-ORIGINAL-URL:https://www.diocesidiroma.it
X-WR-CALDESC:Eventi per DIOCESI DI ROMA
BEGIN:VEVENT
DTSTART;TZID=Europe/Rome:20250606T183000
DTEND;TZID=Europe/Rome:20250606T183000
DTSTAMP:20260424T111826
CREATED:20250530T091729Z
LAST-MODIFIED:20250603T103219Z
UID:35898-1749234600-1749234600@www.diocesidiroma.it
SUMMARY:Celebra la Messa nella parrocchia Santa Croce in Gerusalemme e partecipa all'evento "Tutto in tutti"
DESCRIPTION:Celebra la Messa nella parrocchia Santa Croce in Gerusalemme e partecipa all’evento “Tutto in tutti” \n
URL:https://www.diocesidiroma.it/event/visita-pastorale-nella-parrocchia-santa-croce-in-gerusalemme/
CATEGORIES:Vicario Generale
END:VEVENT
END:VCALENDAR