BEGIN:VCALENDAR
VERSION:2.0
PRODID:-//DIOCESI DI ROMA - ECPv4.6.14.1//NONSGML v1.0//EN
CALSCALE:GREGORIAN
METHOD:PUBLISH
X-WR-CALNAME:DIOCESI DI ROMA
X-ORIGINAL-URL:https://www.diocesidiroma.it
X-WR-CALDESC:Eventi per DIOCESI DI ROMA
BEGIN:VEVENT
DTSTART;TZID=Europe/Rome:20251210T170000
DTEND;TZID=Europe/Rome:20251210T170000
DTSTAMP:20260420T182219
CREATED:20251206T122004Z
LAST-MODIFIED:20251206T122004Z
UID:38966-1765386000-1765386000@www.diocesidiroma.it
SUMMARY:Visita pastorale nella parrocchia Santa Maria di Loreto
DESCRIPTION:Visita pastorale nella parrocchia Santa Maria di Loreto \n
URL:https://www.diocesidiroma.it/event/visita-pastorale-nella-parrocchia-santa-maria-di-loreto/
CATEGORIES:Vicario Generale
END:VEVENT
END:VCALENDAR