BEGIN:VCALENDAR
VERSION:2.0
PRODID:-//DIOCESI DI ROMA - ECPv4.6.14.1//NONSGML v1.0//EN
CALSCALE:GREGORIAN
METHOD:PUBLISH
X-WR-CALNAME:DIOCESI DI ROMA
X-ORIGINAL-URL:https://www.diocesidiroma.it
X-WR-CALDESC:Eventi per DIOCESI DI ROMA
BEGIN:VEVENT
DTSTART;TZID=Europe/Rome:20250521T180000
DTEND;TZID=Europe/Rome:20250521T180000
DTSTAMP:20260421T025037
CREATED:20250516T115102Z
LAST-MODIFIED:20250516T115102Z
UID:35682-1747850400-1747850400@www.diocesidiroma.it
SUMMARY:Visita pastorale Parrocchia S. Maria Regina Mundi
DESCRIPTION:Visita pastorale Parrocchia S. Maria Regina Mundi \n
URL:https://www.diocesidiroma.it/event/visita-pastorale-parrocchia-s-maria-regina-mundi/
CATEGORIES:Vicario Generale
END:VEVENT
END:VCALENDAR