BEGIN:VCALENDAR
VERSION:2.0
PRODID:-//DIOCESI DI ROMA - ECPv4.6.14.1//NONSGML v1.0//EN
CALSCALE:GREGORIAN
METHOD:PUBLISH
X-WR-CALNAME:DIOCESI DI ROMA
X-ORIGINAL-URL:https://www.diocesidiroma.it
X-WR-CALDESC:Eventi per DIOCESI DI ROMA
BEGIN:VEVENT
DTSTART;VALUE=DATE:20180531
DTEND;VALUE=DATE:20180601
DTSTAMP:20260421T010517
CREATED:20171228T141133Z
LAST-MODIFIED:20171228T141133Z
UID:718-1527724800-1527811199@www.diocesidiroma.it
SUMMARY:VISITAZIONE DELLA B.V.MARIA
DESCRIPTION:
URL:https://www.diocesidiroma.it/event/visitazione-della-b-v-maria/
CATEGORIES:Ricorrenze
END:VEVENT
END:VCALENDAR