BEGIN:VCALENDAR
VERSION:2.0
PRODID:-//DIOCESI DI ROMA - ECPv4.6.14.1//NONSGML v1.0//EN
CALSCALE:GREGORIAN
METHOD:PUBLISH
X-WR-CALNAME:DIOCESI DI ROMA
X-ORIGINAL-URL:https://www.diocesidiroma.it
X-WR-CALDESC:Eventi per DIOCESI DI ROMA
BEGIN:VEVENT
DTSTART;TZID=Europe/Rome:20211030T000000
DTEND;TZID=Europe/Rome:20211101T000000
DTSTAMP:20260421T011229
CREATED:20210929T151601Z
LAST-MODIFIED:20210929T151627Z
UID:18137-1635552000-1635724800@www.diocesidiroma.it
SUMMARY:Week end di formazione per referenti de équipe diocesana; a cura del Servizio per la pastorale giovanile
DESCRIPTION:Week end di formazione per referenti de équipe diocesana; a cura del Servizio per la pastorale giovanile. \n
URL:https://www.diocesidiroma.it/event/week-end-di-formazione-per-referenti-de-equipe-diocesana-a-cura-del-servizio-per-la-pastorale-giovanile/
CATEGORIES:Iniziative degli Uffici
END:VEVENT
END:VCALENDAR