BEGIN:VCALENDAR
VERSION:2.0
PRODID:-//DIOCESI DI ROMA - ECPv4.6.14.1//NONSGML v1.0//EN
CALSCALE:GREGORIAN
METHOD:PUBLISH
X-WR-CALNAME:DIOCESI DI ROMA
X-ORIGINAL-URL:https://www.diocesidiroma.it
X-WR-CALDESC:Eventi per DIOCESI DI ROMA
BEGIN:VEVENT
DTSTART;VALUE=DATE:20180628
DTEND;VALUE=DATE:20180629
DTSTAMP:20260420T165211
CREATED:20171228T143219Z
LAST-MODIFIED:20171228T143219Z
UID:742-1530144000-1530230399@www.diocesidiroma.it
SUMMARY:XIX Premio Buon Samaritano
DESCRIPTION:
URL:https://www.diocesidiroma.it/event/xix-premio-buon-samaritano/
CATEGORIES:Iniziative degli Uffici
END:VEVENT
END:VCALENDAR