BEGIN:VCALENDAR
VERSION:2.0
PRODID:-//DIOCESI DI ROMA - ECPv4.6.14.1//NONSGML v1.0//EN
CALSCALE:GREGORIAN
METHOD:PUBLISH
X-WR-CALNAME:DIOCESI DI ROMA
X-ORIGINAL-URL:https://www.diocesidiroma.it
X-WR-CALDESC:Eventi per DIOCESI DI ROMA
BEGIN:VEVENT
DTSTART;VALUE=DATE:20180621
DTEND;VALUE=DATE:20180622
DTSTAMP:20260420T165301
CREATED:20171228T142959Z
LAST-MODIFIED:20171228T142959Z
UID:736-1529539200-1529625599@www.diocesidiroma.it
SUMMARY:XV Simposio dei docenti universitari
DESCRIPTION:
URL:https://www.diocesidiroma.it/event/xv-simposio-dei-docenti-universitari/
CATEGORIES:Iniziative degli Uffici
END:VEVENT
END:VCALENDAR