BEGIN:VCALENDAR
VERSION:2.0
PRODID:-//DIOCESI DI ROMA - ECPv4.6.14.1//NONSGML v1.0//EN
CALSCALE:GREGORIAN
METHOD:PUBLISH
X-WR-CALNAME:DIOCESI DI ROMA
X-ORIGINAL-URL:https://www.diocesidiroma.it
X-WR-CALDESC:Eventi per DIOCESI DI ROMA
BEGIN:VEVENT
DTSTART;VALUE=DATE:20231111
DTEND;VALUE=DATE:20231112
DTSTAMP:20260420T165844
CREATED:20231006T084845Z
LAST-MODIFIED:20231006T084845Z
UID:27527-1699660800-1699747199@www.diocesidiroma.it
SUMMARY:XX Giornata degli universitari di Roma a Spoleto (Uff. past. universitaria)
DESCRIPTION:XX Giornata degli universitari di Roma a Spoleto (Uff. past. universitaria) \n
URL:https://www.diocesidiroma.it/event/xx-giornata-degli-universitari-di-roma-a-spoleto-uff-past-universitaria/
CATEGORIES:In Diocesi,Iniziative degli Uffici
END:VEVENT
END:VCALENDAR