BEGIN:VCALENDAR
VERSION:2.0
PRODID:-//DIOCESI DI ROMA - ECPv4.6.14.1//NONSGML v1.0//EN
CALSCALE:GREGORIAN
METHOD:PUBLISH
X-WR-CALNAME:DIOCESI DI ROMA
X-ORIGINAL-URL:https://www.diocesidiroma.it
X-WR-CALDESC:Eventi per DIOCESI DI ROMA
BEGIN:VEVENT
DTSTART;VALUE=DATE:20251017
DTEND;VALUE=DATE:20251018
DTSTAMP:20260420T182907
CREATED:20250910T105656Z
LAST-MODIFIED:20250910T105656Z
UID:36914-1760659200-1760745599@www.diocesidiroma.it
SUMMARY:XXII Giornata del mondo accademico
DESCRIPTION:XXII Giornata del mondo accademico  \n
URL:https://www.diocesidiroma.it/event/xxii-giornata-del-mondo-accademico/
CATEGORIES:Giornate di sensibilizzazione,In Diocesi,Iniziative degli Uffici
END:VEVENT
END:VCALENDAR