BEGIN:VCALENDAR
VERSION:2.0
PRODID:-//DIOCESI DI ROMA - ECPv4.6.14.1//NONSGML v1.0//EN
CALSCALE:GREGORIAN
METHOD:PUBLISH
X-WR-CALNAME:DIOCESI DI ROMA
X-ORIGINAL-URL:https://www.diocesidiroma.it
X-WR-CALDESC:Eventi per DIOCESI DI ROMA
BEGIN:VEVENT
DTSTART;TZID=Europe/Rome:20240211T160000
DTEND;TZID=Europe/Rome:20240211T160000
DTSTAMP:20260420T170521
CREATED:20240112T081249Z
LAST-MODIFIED:20240112T081249Z
UID:28440-1707667200-1707667200@www.diocesidiroma.it
SUMMARY:XXXII Giornata mondiale del malato - Basilica San Giovanni in Laterano\, presiede il Cardinal Vicario (Uff. past. Sanitaria insieme Uff. past. Anziani e Malati)
DESCRIPTION:XXXII Giornata mondiale del malato – Basilica San Giovanni in Laterano\, presiede il Cardinal Vicario (Uff. past. Sanitaria insieme Uff. past. Anziani e Malati) \n
URL:https://www.diocesidiroma.it/event/xxxii-giornata-mondiale-del-malato-basilica-san-giovanni-in-laterano-presiede-il-cardinal-vicario-uff-past-sanitaria-insieme-uff-past-anziani-e-malati/
CATEGORIES:Giornate di sensibilizzazione,Iniziative degli Uffici
END:VEVENT
END:VCALENDAR