
BEGIN:VCALENDAR
VERSION:2.0
PRODID:-//Ufficio Pastorale della Salute - ECPv4.6.14.1//NONSGML v1.0//EN
CALSCALE:GREGORIAN
METHOD:PUBLISH
X-WR-CALNAME:Ufficio Pastorale della Salute
X-ORIGINAL-URL:https://www.diocesidiroma.it/sanitaria
X-WR-CALDESC:Events for Ufficio Pastorale della Salute
BEGIN:VEVENT
DTSTART;TZID=Europe/Rome:20200519T000000
DTEND;TZID=Europe/Rome:20200519T000000
DTSTAMP:20260423T190105
CREATED:20230615T104253Z
LAST-MODIFIED:20230615T104253Z
UID:6098-1589846400-1589846400@www.diocesidiroma.it
SUMMARY:San Giuseppe Benedetto Cottolengo
DESCRIPTION:
URL:https://www.diocesidiroma.it/sanitaria/index.php/event/san-giuseppe-benedetto-cottolengo-3/
CATEGORIES:Santi della Sanità
END:VEVENT
END:VCALENDAR