
BEGIN:VCALENDAR
VERSION:2.0
PRODID:-//Ufficio Pastorale della Salute - ECPv4.6.14.1//NONSGML v1.0//EN
CALSCALE:GREGORIAN
METHOD:PUBLISH
X-WR-CALNAME:Ufficio Pastorale della Salute
X-ORIGINAL-URL:https://www.diocesidiroma.it/sanitaria
X-WR-CALDESC:Events for Ufficio Pastorale della Salute
BEGIN:VEVENT
DTSTART;TZID=Europe/Rome:20200519T000000
DTEND;TZID=Europe/Rome:20200519T000000
DTSTAMP:20260423T190250
CREATED:20230615T104253Z
LAST-MODIFIED:20230615T104253Z
UID:6097-1589846400-1589846400@www.diocesidiroma.it
SUMMARY:Servo di Dio Emanuele Stablum (1895-1950)
DESCRIPTION:Servo di Dio Emanuele Stablum\nNacque a Terzolas\, paese della Val di Sole (TN)\, il 10 giugno 1895 da genitori poveri\, ricchi di virtù umane e cristiane. Aderì presto alla chiamata del Signore ed entrò tra i Figli dell’Immacolata Concezione nella comunità di Saronno (VA)\, ove dieci anni prima era morto il Fondatore\, beato Luigi Maria Monti. Di Lui fu fedelissimo discepolo e studioso della vita. Si consacrò al Signore con i voti religiosi il 15 agosto 1913. Nel 1915 pervenne a Roma ove frequentò i corsi di filosofia in ordine al sacerdozio. Durante il primo anno del corso di teologia\, fu invitato dal Superiore generale a passare alla facoltà di medicina\, per cui s’iscrisse a “La Sapienza” di Roma. Passò\, con vera sofferenza\, alla nuova missione della sua vita che realizzò con spirito sacerdotale. \nLaureatosi nel 1930 a Napoli\, s’inserì l’anno dopo (primo medico della Congregazione) nell’attività sanitaria dell’Istituto Dermopatico dell’Immacolata di Roma\, di cui fu direttore saggio e preparato per quindici anni. Realizzò in se stesso una felice simbiosi: fu religioso fedele alla sua consacrazione a Dio; fu medico attento a tutta la persona del paziente che curava con scienza e con amore; fu attivamente partecipe alla vita della sua Congregazione\, di cui fu Vicario generale. La sua carità rifulse eroicamente nel 1943-44\, quando aprì le porte dell’Istituto Dermopatico dell’Immacolata ai perseguitati dai nazisti. Salvò la vita ad un centinaio di rifugiati. Tra questi vi erano 52 ebrei\, salvati dalla Shoah. Per questo atto eroico\, compiuto a rischio della sua esistenza\, lo Stato d’Israele gli ha donato l’onorificenza di “Giusto tra le Nazioni”\, alla memoria. \nNel 1945\, per arricchire i medici di spirito apostolico\, fu cofondatore dell’Associazione Medici Cattolici Italiani (AMCI). \nLa piena conformità alla volontà di Dio fu il fondamento della sua pace nella sofferenza\, da lui ritenuta sommo valore. La sua santa morte avvenne il 16 marzo 1950 in Roma nell’IDI\, da lui trasformato nello spirito e nelle strutture con un servizio evangelico lungimirante e diuturno. \nFu sepolto nel cimitero del Verano\, da dove il 16 marzo 2000 i suoi resti mortali sono stati traslati\, con solenne cerimonia\, nella chiesa dell’Istituto Dermopatico dell’Immacolata\, ove riposano in attesa che la Chiesa si proclami sulla santità della sua vita. \n  \n  \nPreghiera \nO Padre\, fonte della vita\,\nti ringraziamo per aver concesso al tuo servo\nEmanuele Stablum\,\nreligioso e medico a te consacrato\nnel nome dell’Immacolata\,\nil dono di sanare il malato\nnell’anima e nel corpo\ne di essere pienamente obbediente\nalla tua volontà\nnella prova della malattia e nell’ora della morte.\nConcedi a noi\, o Padre\, per sua intercessione\,\ndi vivere nella fede l’amore verso gli infermi\,\ndi godere sempre della salute fisica e spirituale\ne di ottenere la grazia\nche in particolare ti domandiamo.\nPer Gesù Cristo nostro Signore.\nAmen. \n
URL:https://www.diocesidiroma.it/sanitaria/index.php/event/servo-di-dio-emanuele-stablum-1895-1950-2/
CATEGORIES:Santi della Sanità
END:VEVENT
END:VCALENDAR