
BEGIN:VCALENDAR
VERSION:2.0
PRODID:-//Ufficio Pastorale della Salute - ECPv4.6.14.1//NONSGML v1.0//EN
CALSCALE:GREGORIAN
METHOD:PUBLISH
X-WR-CALNAME:Ufficio Pastorale della Salute
X-ORIGINAL-URL:https://www.diocesidiroma.it/sanitaria
X-WR-CALDESC:Events for Ufficio Pastorale della Salute
BEGIN:VEVENT
DTSTART;TZID=Europe/Rome:20260706T000000
DTEND;TZID=Europe/Rome:20260706T000000
DTSTAMP:20260422T210240
CREATED:20230615T104405Z
LAST-MODIFIED:20230615T104405Z
UID:6407-1783296000-1783296000@www.diocesidiroma.it
SUMMARY:Beato Luigi Bordino (1922-1977)
DESCRIPTION:Beato Luigi Bordino\nPreghiera \n\n“Lo spirito si fa carne e operò tra di noi”.   Leggi di più
URL:https://www.diocesidiroma.it/sanitaria/index.php/event/beato-luigi-bordino-1922-1977-2/2026-07-06/
CATEGORIES:Santi della Sanità
END:VEVENT
END:VCALENDAR